BEGIN:VCALENDAR
VERSION:2.0
PRODID:-//hacksw/handcal//NONSGML v1.0//EN
BEGIN:VEVENT
DTSTART:20250408T171500Z
DTEND:20250408T184500Z
LOCATION:Théâtre Rousseau Batiment Bouygues \n3, Rue Joliot Curie \n91190 GIF-SUR-YVETTE
ORGANIZER;CN=Irina Jaubert - Économie Sociale & Solidaire (CSA):MAILTO:irina.jaubert@mailo.com
SUMMARY:Café Frappé "Changer le monde en changeant nos assiettes"
DESCRIPTION:☕Dans le cadre de Végétavril🌱🍽️, Impact, L214 et l’AVF vous invitent à une conférence Café Frappé sur le végétarisme : "Changer le monde en changeant nos assiettes".Dans un contexte de surconsommation...
URL:https://association.centralesupelec-alumni.com/fr/group/economie-sociale-solidaire-csa/69/calendar/cafe-frappe-changer-le-monde-en-changeant-nos-assiettes/2025/04/08/9006
BEGIN:VALARM
TRIGGER:-P0DT1H0M0S
ACTION:DISPLAY
END:VALARM
END:VEVENT
END:VCALENDAR