BEGIN:VCALENDAR
VERSION:2.0
PRODID:-//hacksw/handcal//NONSGML v1.0//EN
BEGIN:VEVENT
DTSTART:20250626T101500Z
DTEND:20250626T113000Z
LOCATION:Pilgrim \n1, Place Graslin \n44000 NANTES
ORGANIZER;CN=Guillaume Landru - Ouest-Atlantique (CSA):MAILTO:guillaume.landru@gmail.com
SUMMARY:Rencontres & Restos CSOA sur Nantes Centre - 26 juin 2025
DESCRIPTION:Chers amis,Nous sommes ravis de vous inviter à notre prochain “Rencontres & Restos” qui aura lieu le jeudi 26 juin à partir de 12h15.Nous nous retrouverons au “Pilgrim” place Graslin pour un déjeuner ...
URL:https://association.centralesupelec-alumni.com/fr/group/ouest-atlantique-csa/297/calendar/rencontres-restos-csoa-sur-nantes-centre-26-juin-2025/2025/06/26/9003
BEGIN:VALARM
TRIGGER:-P0DT1H0M0S
ACTION:DISPLAY
END:VALARM
END:VEVENT
END:VCALENDAR