BEGIN:VCALENDAR
VERSION:2.0
PRODID:-//hacksw/handcal//NONSGML v1.0//EN
BEGIN:VEVENT
DTSTART:20250408T170000Z
DTEND:20250408T183000Z
LOCATION:Bande à Roro \n23, Rue Piliers de Tutelle \n33000 BORDEAUX
ORGANIZER;CN=Hélène Rinn - Centraliens et Supélec en Aquitaine (CSA):MAILTO:hjc.rinn@mailo.fr
SUMMARY:Afterwork à la Bande à Roro - Bordeaux
DESCRIPTION:Nous vous donnons rendez-vous mardi 8 avril, à partir de 19hà la Bande à Roro23 rue Piliers de Tutelle à Bordeaux(proche de la place de la Bourse)pour partager un moment convivial autour d'un bon...
URL:https://association.centralesupelec-alumni.com/fr/group/centraliens-et-supelec-en-aquitaine-csa/287/calendar/afterwork-a-la-bande-a-roro-bordeaux/2025/04/08/8989
BEGIN:VALARM
TRIGGER:-P0DT1H0M0S
ACTION:DISPLAY
END:VALARM
END:VEVENT
END:VCALENDAR