BEGIN:VCALENDAR
VERSION:2.0
PRODID:-//hacksw/handcal//NONSGML v1.0//EN
BEGIN:VEVENT
DTSTART:20250424T160000Z
DTEND:20250424T180000Z
LOCATION:Tribunal de Commerce de Bordeaux \nPlace de la Bourse \n33000 BORDEAUX
ORGANIZER;CN=Hélène Rinn - Centraliens et Supélec en Aquitaine (CSA):MAILTO:hjc.rinn@mailo.fr
SUMMARY:Visite du tribunal de commerce de Bordeaux
DESCRIPTION:\nNous vous donnons rendez-vous jeudi 24 avril à 18hau tribunal de commerce de Bordeauxplace de la Boursepour une présentation du tribunal et de ses missions. Merci de bien vouloir vous inscrire par...
URL:https://association.centralesupelec-alumni.com/fr/group/centraliens-et-supelec-en-aquitaine-csa/287/calendar/visite-du-tribunal-de-commerce-de-bordeaux/2025/04/24/8988
BEGIN:VALARM
TRIGGER:-P0DT1H0M0S
ACTION:DISPLAY
END:VALARM
END:VEVENT
END:VCALENDAR