BEGIN:VCALENDAR
VERSION:2.0
PRODID:-//hacksw/handcal//NONSGML v1.0//EN
BEGIN:VEVENT
DTSTART:20250505T070000Z
DTEND:20250505T090000Z
LOCATION:Madrid \n124, Calle de Serrano \n28006 MADRID
ORGANIZER;CN=Thierry Delmas:MAILTO:thierry.delmas@yahoo.es
SUMMARY:Ambassade de France 'a Madrid - Invitation CentraleSupelec Alumni 05 MAi 2025
DESCRIPTION:Le nouvelle Ambassadrice de France en Espagne Son Excellence Madame l’Ambassadrice de France en Espagne, Kareen Rispal, nous a invit'e 'a participer 'a une r'eunion desassociations d’Alumni autour...
URL:https://association.centralesupelec-alumni.com/fr/event/ambassade-de-france-a-madrid-invitation-centralesupelec-alumni-05-mai-2025/2025/05/05/8984
BEGIN:VALARM
TRIGGER:-P0DT1H0M0S
ACTION:DISPLAY
END:VALARM
END:VEVENT
END:VCALENDAR