BEGIN:VCALENDAR
VERSION:2.0
PRODID:-//hacksw/handcal//NONSGML v1.0//EN
BEGIN:VEVENT
DTSTART:20250410T073000Z
DTEND:20250410T140000Z
LOCATION:Gare Ermont-Eaubonne \n1, Rue des Bouquinvilles \n95600 EAUBONNE
ORGANIZER;CN=Jean-Louis Pallandre - CSA Ile de France:MAILTO:jean-louis.pallandre@wanadoo.fr
SUMMARY:Randonnée dans l’Oise au départ de la gare Ermont-Eaubonne
DESCRIPTION:Randonnée dans l’Oise au départ de la gare Ermont-EaubonneParcours en boucle de 17km et 270m de dénivelé cumulé avec pique-nique.Départ à 9h30 jeudi 10 avril devant le bar « Le Comptoir »: 1 Rue des...
URL:https://association.centralesupelec-alumni.com/fr/group/csa-ile-de-france/587/calendar/randonnee-dans-l-oise-au-depart-de-la-gare-ermont-eaubonne/2025/04/10/8978
BEGIN:VALARM
TRIGGER:-P0DT1H0M0S
ACTION:DISPLAY
END:VALARM
END:VEVENT
END:VCALENDAR