BEGIN:VCALENDAR
VERSION:2.0
PRODID:-//hacksw/handcal//NONSGML v1.0//EN
BEGIN:VEVENT
DTSTART:20250409T163000Z
DTEND:20250409T183000Z
LOCATION:Paris \n41 Rue de St Petersbourg \n75008 Paris
ORGANIZER;CN=Bernard Depouilly - Management de Transition (CSA):MAILTO:bdepouilly@hotmail.com
SUMMARY:Afterwork LOUIS DUPONT/CSMT
DESCRIPTION:Bonjour,Le Cabinet LOUIS DUPONT invite les membres de CSMT à un afterwork  le 9 Avril 2025 de 18h30 à 20H30.Voir invitation ci-dessous. Merci de vous inscrire sur le site CSMT onglet...
URL:https://association.centralesupelec-alumni.com/fr/group/management-de-transition-csa/467/calendar/afterwork-louis-dupont-csmt/2025/04/09/8966
BEGIN:VALARM
TRIGGER:-P0DT1H0M0S
ACTION:DISPLAY
END:VALARM
END:VEVENT
END:VCALENDAR