BEGIN:VCALENDAR
VERSION:2.0
PRODID:-//hacksw/handcal//NONSGML v1.0//EN
BEGIN:VEVENT
DTSTART:20250412T073000Z
DTEND:20250412T103000Z
LOCATION:Hôtel Mercure \nRue Albert Caquot \n06560 VALBONNE
ORGANIZER;CN=Olivier Caillau - Côte-d'Azur - Corse (CSA):MAILTO:olivier@caillau.net
SUMMARY:Samedi 12 avril (matinée) - Atelier Blender3D
DESCRIPTION:\nSamedi 12 avril, 9h30 - 12h30à l'Hôtel Mercure (rue Albert Caquot, Sophia-Antipolis)Découvrez Blender : Le Logiciel de Création 3D UltimeAtelier animé par Claude DalsteinBlender est bien plus qu’un ...
URL:https://association.centralesupelec-alumni.com/fr/group/cote-d-azur-corse-csa/309/calendar/samedi-12-avril-matinee-atelier-blender3d/2025/04/12/8957
BEGIN:VALARM
TRIGGER:-P0DT1H0M0S
ACTION:DISPLAY
END:VALARM
END:VEVENT
END:VCALENDAR