BEGIN:VCALENDAR
VERSION:2.0
PRODID:-//hacksw/handcal//NONSGML v1.0//EN
BEGIN:VEVENT
DTSTART:20250331T075000Z
DTEND:20250331T153000Z
LOCATION:Institut National d'Histoire de l'Art (INHA) \n2, Rue Vivienne \n75002 PARIS
ORGANIZER;CN=CentraleSupélec Alumni:MAILTO:csa-alumni@centralesupelec-alumni.com
SUMMARY:Journée d'études - Les ingénieurs et les architectes face à l’Antiquité grecque
DESCRIPTION:\nDans la 2ème moitié du XIXe siècle, nombreux furent les ingénieurs, en particulier Centraliens, qui vinrent travailler en Grèce, soit dans l’industrie, notamment minière, soit dans les travaux...
URL:https://association.centralesupelec-alumni.com/fr/event/journee-d-etudes-les-ingenieurs-et-les-architectes-face-a-l-antiquite-grecque/2025/03/31/8956
BEGIN:VALARM
TRIGGER:-P0DT1H0M0S
ACTION:DISPLAY
END:VALARM
END:VEVENT
END:VCALENDAR