BEGIN:VCALENDAR
VERSION:2.0
PRODID:-//hacksw/handcal//NONSGML v1.0//EN
BEGIN:VEVENT
DTSTART:20250407T094500Z
DTEND:20250407T114500Z
LOCATION:Amphi Michelin - CentraleSupélec \n3, Rue Joliot Curie \n91190 GIF-SUR-YVETTE
ORGANIZER;CN=Christopher Georges - publiCS / CSA Secteur public:MAILTO:christopher.georges@centralesupelec-alumni.com
SUMMARY:Quelle place pour les ingénieur.e.s dans le service public de demain ?
DESCRIPTION:publiCS organise avec la DREV CentraleSupélec une table ronde sur les métiers du secteur public le 07 avril 2025 sur le campus de l'école. Cet événement est l'occasion de présenter les carrières...
URL:https://association.centralesupelec-alumni.com/fr/group/publics-csa-secteur-public/602/calendar/quelle-place-pour-les-ingenieur-e-s-dans-le-service-public-de-demain/2025/04/07/8953
BEGIN:VALARM
TRIGGER:-P0DT1H0M0S
ACTION:DISPLAY
END:VALARM
END:VEVENT
END:VCALENDAR