BEGIN:VCALENDAR
VERSION:2.0
PRODID:-//hacksw/handcal//NONSGML v1.0//EN
BEGIN:VEVENT
DTSTART:20250512T084500Z
DTEND:20250512T103000Z
LOCATION:Musée Jacquemart-André \n158, Boulevard Haussmann \n75008 PARIS
ORGANIZER;CN=Jacqueline Pasdeloup - CSA Ile de France:MAILTO:jacqueline@asso-supelec.org
SUMMARY:Exposition " Artemisa Gentileschi, héroïne de l'art " au musée Jacquemart-André
DESCRIPTION:Droits photo :\nArtemisia Gentileschi, \n« Judith et sa servante avec la tête d’Holopherne », v.1615\nLe musée Jacquemart-André met à l'honneur en 2025 l'artiste romaine Artemisia...
URL:https://association.centralesupelec-alumni.com/fr/group/csa-ile-de-france/587/calendar/exposition-artemisa-gentileschi-heroine-de-l-art-au-musee-jacquemart-andre/2025/05/12/8949
BEGIN:VALARM
TRIGGER:-P0DT1H0M0S
ACTION:DISPLAY
END:VALARM
END:VEVENT
END:VCALENDAR