BEGIN:VCALENDAR
VERSION:2.0
PRODID:-//hacksw/handcal//NONSGML v1.0//EN
BEGIN:VEVENT
DTSTART:20250424T173000Z
DTEND:20250424T200000Z
LOCATION:Ecole Centrale Méditerranée \n38, Rue Frédéric Joliot Curie \n13013 MARSEILLE
ORGANIZER;CN=Philippe Cabrit - Provence (CSA):MAILTO:philippe.cabrit@centralesupelec-alumni.com
SUMMARY:La propulsion des engins à décollage vertical
DESCRIPTION:Jeudi 24 avril à Marseille\n La propulsion des engins à décollage vertical­Les innovations dans la propulsion des hélicoptères visent principalement à améliorer leur efficacité énergétique, leur...
URL:https://association.centralesupelec-alumni.com/fr/group/provence-csa/347/calendar/la-propulsion-des-engins-a-decollage-vertical/2025/04/24/8945
BEGIN:VALARM
TRIGGER:-P0DT1H0M0S
ACTION:DISPLAY
END:VALARM
END:VEVENT
END:VCALENDAR