BEGIN:VCALENDAR
VERSION:2.0
PRODID:-//hacksw/handcal//NONSGML v1.0//EN
BEGIN:VEVENT
DTSTART:20250425T100000Z
DTEND:20250425T150000Z
LOCATION:Mison de l'Eau et des Energie \n2100, Route du barrage \n05190 ROUSSET-SERRE-PONCON
ORGANIZER;CN=Philippe Cabrit - Provence (CSA):MAILTO:philippe.cabrit@centralesupelec-alumni.com
SUMMARY:Visite du barrage de Serre-Ponçon
DESCRIPTION:Vendredi 25 avril\n Visite du barrage de Serre-Ponçon­C'est l’un des plus grands barrages hydroélectriques en terre d'Europe. Il impressionne par son ampleur : 123 m de haut, 600 m de large et 650 m...
URL:https://association.centralesupelec-alumni.com/fr/group/provence-csa/347/calendar/-visite-du-barrage-de-serre-poncon/2025/04/25/8944
BEGIN:VALARM
TRIGGER:-P0DT1H0M0S
ACTION:DISPLAY
END:VALARM
END:VEVENT
END:VCALENDAR