BEGIN:VCALENDAR
VERSION:2.0
PRODID:-//hacksw/handcal//NONSGML v1.0//EN
BEGIN:VEVENT
DTSTART:20250430T070000Z
DTEND:20250430T103000Z
LOCATION:Campus emlyon Business School \n144, Avenue Jean Jaurès \n69007 LYON
ORGANIZER;CN=Jacqueline Pasdeloup:MAILTO:jacqueline@asso-supelec.org
SUMMARY:Career sprint | Atelier présentiel Lyon ANNULE
DESCRIPTION:\nDu bilan de carrière à la prise de fonction, il n’est pas toujours facile de garder le cap dans un parcours de transition professionnelle.\nCet atelier fait suite aux sept webinaires Career...
URL:https://association.centralesupelec-alumni.com/fr/event/career-sprint-atelier-presentiel-lyon-annule/2025/04/30/8934
BEGIN:VALARM
TRIGGER:-P0DT1H0M0S
ACTION:DISPLAY
END:VALARM
END:VEVENT
END:VCALENDAR