BEGIN:VCALENDAR
VERSION:2.0
PRODID:-//hacksw/handcal//NONSGML v1.0//EN
BEGIN:VEVENT
DTSTART:20250514T180000Z
DTEND:20250514T193000Z
LOCATION:Salle Gaveau \n45, Rue La Boétie \n75008 PARIS
ORGANIZER;CN=Jacqueline Pasdeloup - CSA Ile de France:MAILTO:jacqueline@asso-supelec.org
SUMMARY:Concert exceptionnel " La 9e Symphonie de Beethoven-Liszt avec Louis Lortie et Hélène Mercier " à la salle Gaveau
DESCRIPTION:\nLouis Lortie : piano\nHélène Mercier : piano\nChoeur de l’orchestre de Paris\nLa fameuse 9e Symphonie de Beethoven et son « Hymne à la joie » font partie de ces mélodies que tout le monde a en tête....
URL:https://association.centralesupelec-alumni.com/fr/group/csa-ile-de-france/587/calendar/concert-exceptionnel-la-9e-symphonie-de-beethoven-liszt-avec-louis-lortie-et-helene-mercier-a-la-salle-gaveau/2025/05/14/8933
BEGIN:VALARM
TRIGGER:-P0DT1H0M0S
ACTION:DISPLAY
END:VALARM
END:VEVENT
END:VCALENDAR