BEGIN:VCALENDAR
VERSION:2.0
PRODID:-//hacksw/handcal//NONSGML v1.0//EN
BEGIN:VEVENT
DTSTART:20250327T113000Z
DTEND:20250327T130000Z
LOCATION:
ORGANIZER;CN=Jacqueline Pasdeloup:MAILTO:jacqueline@asso-supelec.org
SUMMARY:ANNULÉ / Ose construire ton projet au cœur de ta singularité
DESCRIPTION:\nSais-tu que tu disposes d’un savoir-faire dans lequel tu excelles, au cœur de tes motivations et de ton potentiel le plus profond ?\nChacun a un positionnement spécifique, issu de son parcours. Ce...
URL:https://association.centralesupelec-alumni.com/fr/event/annule-ose-construire-ton-projet-au-coeur-de-ta-singularite/2025/03/27/8924
BEGIN:VALARM
TRIGGER:-P0DT1H0M0S
ACTION:DISPLAY
END:VALARM
END:VEVENT
END:VCALENDAR