BEGIN:VCALENDAR
VERSION:2.0
PRODID:-//hacksw/handcal//NONSGML v1.0//EN
BEGIN:VEVENT
DTSTART:20250513T103000Z
DTEND:20250513T120000Z
LOCATION:
ORGANIZER;CN=Jacqueline Pasdeloup:MAILTO:jacqueline@asso-supelec.org
SUMMARY:« Web-atelier : Jeux de pouvoirs | Les déjouer pour revenir à une coopération saine » (COMPLET)
DESCRIPTION:\nLes jeux de pouvoir, plus ou moins subtils, sont pratiquement inévitables dans les organisations… \nPour autant, ils nuisent à la coopération et à la motivation des équipes. Comment les déjouer,...
URL:https://association.centralesupelec-alumni.com/fr/event/-web-atelier-jeux-de-pouvoirs-les-dejouer-pour-revenir-a-une-cooperation-saine-complet/2025/05/13/8923
BEGIN:VALARM
TRIGGER:-P0DT1H0M0S
ACTION:DISPLAY
END:VALARM
END:VEVENT
END:VCALENDAR