BEGIN:VCALENDAR
VERSION:2.0
PRODID:-//hacksw/handcal//NONSGML v1.0//EN
BEGIN:VEVENT
DTSTART:20250327T180000Z
DTEND:20250327T200000Z
LOCATION:
ORGANIZER;CN=Jacqueline Pasdeloup:MAILTO:jacqueline@asso-supelec.org
SUMMARY:REPORTÉ : Webinar : "Introvertis : comment rayonner en entreprise ? "
DESCRIPTION:\nCe webinaire est reporté à une date ultérieure\n                                                    Vous appréciez le calme et la solitude ?Ceux que vous rencontrez, en groupe, vous perçoivent comme...
URL:https://association.centralesupelec-alumni.com/fr/event/reporte-webinar-introvertis-comment-rayonner-en-entreprise/2025/03/27/8922
BEGIN:VALARM
TRIGGER:-P0DT1H0M0S
ACTION:DISPLAY
END:VALARM
END:VEVENT
END:VCALENDAR