BEGIN:VCALENDAR
VERSION:2.0
PRODID:-//hacksw/handcal//NONSGML v1.0//EN
BEGIN:VEVENT
DTSTART:20250512T073000Z
DTEND:20250512T103000Z
LOCATION:Maison CentraleSupélec - Salon Michelin - 3e étage \n8, Rue Jean Goujon \n75008 PARIS
ORGANIZER;CN=Jacqueline Pasdeloup:MAILTO:jacqueline@asso-supelec.org
SUMMARY:Career sprint | Atelier présentiel Paris
DESCRIPTION:\nDu bilan de carrière à la prise de fonction, il n’est pas toujours facile de garder le cap dans un parcours de transition professionnelle.\nCet atelier fait suite aux sept webinaires Career...
URL:https://association.centralesupelec-alumni.com/fr/event/career-sprint-atelier-presentiel-paris/2025/05/12/8905
BEGIN:VALARM
TRIGGER:-P0DT1H0M0S
ACTION:DISPLAY
END:VALARM
END:VEVENT
END:VCALENDAR