BEGIN:VCALENDAR
VERSION:2.0
PRODID:-//hacksw/handcal//NONSGML v1.0//EN
BEGIN:VEVENT
DTSTART:20250425T080000Z
DTEND:20250425T143000Z
LOCATION:Cathédrale Notre Dame de Chartres
ORGANIZER;CN=Jacqueline Pasdeloup - CSA Ile de France:MAILTO:jacqueline@asso-supelec.org
SUMMARY:Une journée à Chartres. Visite de la Cathédrale, de l’Atelier d’un Maître-Verrier et de la Cité Médiévale
DESCRIPTION:Droits photo :\nPhoto de gauche : © C'ChartresTourisme Studio Martino\nPhoto de droite : Chartres_© Studio Martino\nChers camarades, \nLe Groupe Régional Île de France vous propose : \nUne journée à...
URL:https://association.centralesupelec-alumni.com/fr/group/csa-ile-de-france/587/calendar/une-journee-a-chartres-visite-de-la-cathedrale-de-l-atelier-d-un-maitre-verrier-et-de-la-cite-medievale/2025/04/25/8901
BEGIN:VALARM
TRIGGER:-P0DT1H0M0S
ACTION:DISPLAY
END:VALARM
END:VEVENT
END:VCALENDAR