BEGIN:VCALENDAR
VERSION:2.0
PRODID:-//hacksw/handcal//NONSGML v1.0//EN
BEGIN:VEVENT
DTSTART:20250327T170000Z
DTEND:20250327T210000Z
LOCATION:ONIRIS \nRue de la Geraudière \n44300 NANTES
ORGANIZER;CN=Stéphane Aubet - Ouest-Atlantique (CSA):MAILTO:stephane@aubet.com
SUMMARY:LES ALGUES ..... votre avenir ?
DESCRIPTION:Nous avons le plaisir  avec IESF de vous partager une conférence passionnante qui explorera les avancées scientifiques et les applications industrielles dans le domaine des algues. Cette rencontre...
URL:https://association.centralesupelec-alumni.com/fr/group/ouest-atlantique-csa/297/calendar/les-algues-votre-avenir/2025/03/27/8884
BEGIN:VALARM
TRIGGER:-P0DT1H0M0S
ACTION:DISPLAY
END:VALARM
END:VEVENT
END:VCALENDAR