BEGIN:VCALENDAR
VERSION:2.0
PRODID:-//hacksw/handcal//NONSGML v1.0//EN
BEGIN:VEVENT
DTSTART:20250331T170000Z
DTEND:20250331T180000Z
LOCATION:Université Paris-Dauphine - PSL \nPlace du Maréchal de Lattre de Tassigny
ORGANIZER;CN=Jean-Christophe Strich - Repreneurs (CSA):MAILTO:jc.strich@free.fr
SUMMARY:CS Repreneurs : Pourquoi ne pas investir dans un Search Fund ?
DESCRIPTION:Cher Camarade, Vous êtes investisseur, entrepreneur et cherchez des opportunités pour investir dans des PME, mais vous n'avez jamais encore entendu parler du Search Fund ?Découvrez le concept innovant...
URL:https://association.centralesupelec-alumni.com/fr/group/repreneurs-csa/331/calendar/cs-repreneurs-pourquoi-ne-pas-investir-dans-un-search-fund/2025/03/31/8874
BEGIN:VALARM
TRIGGER:-P0DT1H0M0S
ACTION:DISPLAY
END:VALARM
END:VEVENT
END:VCALENDAR