BEGIN:VCALENDAR
VERSION:2.0
PRODID:-//hacksw/handcal//NONSGML v1.0//EN
BEGIN:VEVENT
DTSTART:20250325T183000Z
DTEND:20250325T200000Z
LOCATION:Théâtre des Champs-Elysées \n15, Avenue Montaigne \n75008 PARIS
ORGANIZER;CN=Jacqueline Pasdeloup - CSA Ile de France:MAILTO:jacqueline@asso-supelec.org
SUMMARY:« Werther », Opéra de Jules Massenet au Théâtre des Champs Elysées
DESCRIPTION:Droits photo : Werther@Brescia Amisano, Teatro alla Scala\nDate limite d'inscription : le 6 mars 2025.\nVeuillez vous présenter à 19 h 15, \nle concert débutant à 19 h 30 précises\nOpéra mis en scène ...
URL:https://association.centralesupelec-alumni.com/fr/group/csa-ile-de-france/587/calendar/-werther-opera-de-jules-massenet-au-theatre-des-champs-elysees/2025/03/25/8862
BEGIN:VALARM
TRIGGER:-P0DT1H0M0S
ACTION:DISPLAY
END:VALARM
END:VEVENT
END:VCALENDAR