BEGIN:VCALENDAR
VERSION:2.0
PRODID:-//hacksw/handcal//NONSGML v1.0//EN
BEGIN:VEVENT
DTSTART:20250326T173000Z
DTEND:20250326T190000Z
LOCATION:
ORGANIZER;CN=Jacqueline Pasdeloup:MAILTO:jacqueline@asso-supelec.org
SUMMARY:Trouver le bon job grâce à chatgpt
DESCRIPTION:\nHervé Bommelaer et Olivier Schaeffer, tous deux associés au cabinet d’outplacement Enjeux Dirigeants, présenteront leur dernier livre « Trouver le bon job grâce à ChatGPT », récemment publié aux...
URL:https://association.centralesupelec-alumni.com/fr/event/trouver-le-bon-job-grace-a-chatgpt/2025/03/26/8854
BEGIN:VALARM
TRIGGER:-P0DT1H0M0S
ACTION:DISPLAY
END:VALARM
END:VEVENT
END:VCALENDAR