BEGIN:VCALENDAR
VERSION:2.0
PRODID:-//hacksw/handcal//NONSGML v1.0//EN
BEGIN:VEVENT
DTSTART:20250326T180000Z
DTEND:20250326T193000Z
LOCATION:Maison CentraleSupélec \n8, Rue Jean Goujon \n75008 PARIS
ORGANIZER;CN=Christian Duquesne - Marine EauDouce-EauSalée (CSA):MAILTO:christian-duquesne@wanadoo.fr
SUMMARY:La surveillance littorale
DESCRIPTION:Le groupe CSA Marine Eau douce Eau salée vous invite à assister à la conférence :   La surveillance littorale Mercredi 26 mars 2025 de 19h00 à 20h30Maison de CentraleSupélec 8 rue Jean Goujon PARIS...
URL:https://association.centralesupelec-alumni.com/fr/group/marine-eaudouce-eausalee-csa/560/calendar/la-surveillance-littorale/2025/03/26/8853
BEGIN:VALARM
TRIGGER:-P0DT1H0M0S
ACTION:DISPLAY
END:VALARM
END:VEVENT
END:VCALENDAR