BEGIN:VCALENDAR
VERSION:2.0
PRODID:-//hacksw/handcal//NONSGML v1.0//EN
BEGIN:VEVENT
DTSTART:20250228T020000Z
DTEND:20250228T040000Z
LOCATION:Palo Alto \n520, Ramona Street \n94301 PALO ALTO
ORGANIZER;CN=Alain Raynaud - USA (CSA):MAILTO:alain@fairsoftware.net
SUMMARY:Afterwork a Palo Alto
DESCRIPTION:Rejoignez les anciens pour notre prochain afterwork de la baie, cette fois a Palo Alto (accessible en CalTrain pour ceux qui viennent de plus loin).The Wine Room520 Ramona StPalo Alto18h-20h
URL:https://association.centralesupelec-alumni.com/fr/group/usa-csa/209/calendar/afterwork-a-palo-alto/2025/02/28/8845
BEGIN:VALARM
TRIGGER:-P0DT1H0M0S
ACTION:DISPLAY
END:VALARM
END:VEVENT
END:VCALENDAR