BEGIN:VCALENDAR
VERSION:2.0
PRODID:-//hacksw/handcal//NONSGML v1.0//EN
BEGIN:VEVENT
DTSTART:20250418T173000Z
DTEND:20250418T200000Z
LOCATION:Le Complexe café-théâtre de Lyon \n7, Rue des Capucins \n69001 LYON
ORGANIZER;CN=David Tavoularis - Lyon (CSA):MAILTO:david.tavoularis@mycom-osi.com
SUMMARY:Dîner-spectacle au Complexe du Rire
DESCRIPTION:Les inscriptions sont closes !Chère camarade, cher camarade,Notre camarade Yves Dorion (ECP69) nous propose le vendredi 18 avril à 19h30 un dîner-spectacle au "Complexe du Rire" (Lyon...
URL:https://association.centralesupelec-alumni.com/fr/group/lyon-csa/299/calendar/diner-spectacle-au-complexe-du-rire/2025/04/18/8832
BEGIN:VALARM
TRIGGER:-P0DT1H0M0S
ACTION:DISPLAY
END:VALARM
END:VEVENT
END:VCALENDAR