BEGIN:VCALENDAR
VERSION:2.0
PRODID:-//hacksw/handcal//NONSGML v1.0//EN
BEGIN:VEVENT
DTSTART:20250330T140000Z
DTEND:20250330T153000Z
LOCATION:Théâtre Antoine \n14, Boulevard de Strasbourg \n75010 PARIS
ORGANIZER;CN=Jacqueline Pasdeloup - CSA Ile de France:MAILTO:jacqueline@asso-supelec.org
SUMMARY:Cyrano de Bergerac au Théâtre Antoine
DESCRIPTION:\nCet évènement est complet. \nSi vous souhaitez néanmoins vous inscrire, \nvous pouvez contacter Jacqueline Pasdeloup\nLa pièce débutera à 16 h précises.\nVeuillez vous présenter à 15 h 30.\nNous...
URL:https://association.centralesupelec-alumni.com/fr/group/csa-ile-de-france/587/calendar/cyrano-de-bergerac-au-theatre-antoine/2025/03/30/8828
BEGIN:VALARM
TRIGGER:-P0DT1H0M0S
ACTION:DISPLAY
END:VALARM
END:VEVENT
END:VCALENDAR