BEGIN:VCALENDAR
VERSION:2.0
PRODID:-//hacksw/handcal//NONSGML v1.0//EN
BEGIN:VEVENT
DTSTART:20251130T230000Z
DTEND:20251209T225500Z
LOCATION:CAP VERT
ORGANIZER;CN=Jean-Jacques Henry - CSA Ile de France:MAILTO:jjghenry@gmail.com
SUMMARY:VOYAGE AU CAP VERT
DESCRIPTION:\nSéjour du 1er au 9 décembre 2025\nDécouverte du Cap Vert\nInscrivez-vous avant le 7 mars  2025\nL’archipel du Cap Vert est composé de dix îles principales posées au large du Sénégal.Le séjour vous...
URL:https://association.centralesupelec-alumni.com/fr/group/csa-ile-de-france/587/calendar/voyage-au-cap-vert/2025/12/01/8799
BEGIN:VALARM
TRIGGER:-P0DT1H0M0S
ACTION:DISPLAY
END:VALARM
END:VEVENT
END:VCALENDAR