BEGIN:VCALENDAR
VERSION:2.0
PRODID:-//hacksw/handcal//NONSGML v1.0//EN
BEGIN:VEVENT
DTSTART:20250415T170000Z
DTEND:20250415T190000Z
LOCATION:Tarmac / Inovallée \n29, Chemin du Vieux Chêne \n38240 MEYLAN
ORGANIZER;CN=Philippe Chinkirch - Dauphiné - Savoie (CSA):MAILTO:philippe.chinkirch@centraliens.net
SUMMARY:Soirée entrepreneuriat
DESCRIPTION:Tu t'intéresses à l'entreprenariat, à la création, au développement ou à la reprise d'entreprise ? Tu souhaites étendre ton réseau professionnel ou tes connaissances dans ce domaine ? Tu souhaites...
URL:https://association.centralesupelec-alumni.com/fr/group/dauphine-savoie-csa/307/calendar/soiree-entrepreneuriat/2025/04/15/8777
BEGIN:VALARM
TRIGGER:-P0DT1H0M0S
ACTION:DISPLAY
END:VALARM
END:VEVENT
END:VCALENDAR