BEGIN:VCALENDAR
VERSION:2.0
PRODID:-//hacksw/handcal//NONSGML v1.0//EN
BEGIN:VEVENT
DTSTART:20250407T170000Z
DTEND:20250407T183000Z
LOCATION:Université Paris-Dauphine - PSL \nPlace du Maréchal de Lattre de Tassigny
ORGANIZER;CN=Jean-Christophe Strich - Repreneurs (CSA):MAILTO:jc.strich@free.fr
SUMMARY:CS Repreneurs : Entrepreneuriat par Acquisition - Découvrez le Search Fund
DESCRIPTION:Le Club Entrepreneurs de Dauphine Alumni & CentraleSupelec Repreneursorganisent une table ronde sur le thèmeEntrepreneuriat par acquisition, \nmettant en lumière le modèle du "Search Fund"Lundi 7...
URL:https://association.centralesupelec-alumni.com/fr/group/repreneurs-csa/331/calendar/cs-repreneurs-entrepreneuriat-par-acquisition-decouvrez-le-search-fund/2025/04/07/8735
BEGIN:VALARM
TRIGGER:-P0DT1H0M0S
ACTION:DISPLAY
END:VALARM
END:VEVENT
END:VCALENDAR