BEGIN:VCALENDAR
VERSION:2.0
PRODID:-//hacksw/handcal//NONSGML v1.0//EN
BEGIN:VEVENT
DTSTART:20250424T063000Z
DTEND:20250424T080000Z
LOCATION:
ORGANIZER;CN=Jacqueline Pasdeloup:MAILTO:jacqueline@asso-supelec.org
SUMMARY:Webinaire « Réussissez votre on-boarding ! »
DESCRIPTION:\nVous entamez une nouvelle étape de carrière ? Ce webinaire, animé par Chantal Nordmann, directrice associée chez Avenir Dirigeant, est pour vous !\nRéussir les fameux 100 jours est votre challenge :...
URL:https://association.centralesupelec-alumni.com/fr/event/webinaire-reussissez-votre-on-boarding/2025/04/24/8722
BEGIN:VALARM
TRIGGER:-P0DT1H0M0S
ACTION:DISPLAY
END:VALARM
END:VEVENT
END:VCALENDAR