BEGIN:VCALENDAR
VERSION:2.0
PRODID:-//hacksw/handcal//NONSGML v1.0//EN
BEGIN:VEVENT
DTSTART:20250415T163000Z
DTEND:20250415T193000Z
LOCATION:Atica \n8, Rue Frédéric Sauton \n75005 PARIS
ORGANIZER;CN=CentraleSupélec Alumni:MAILTO:csa-alumni@centralesupelec-alumni.com
SUMMARY:Afterwork Spécial "Transformation des entreprises"  à Atica (Paris 5e) (ANNULÉ)
DESCRIPTION:\nLe troisième mardi de chaque mois, rejoins-nous pour notre afterwork !Cette soirée est ouverte à tous les diplômés de la CACCS (Confédération des Associations Centraliennes et...
URL:https://association.centralesupelec-alumni.com/fr/event/afterwork-special-transformation-des-entreprises-a-atica-paris-5e-annule/2025/04/15/8721
BEGIN:VALARM
TRIGGER:-P0DT1H0M0S
ACTION:DISPLAY
END:VALARM
END:VEVENT
END:VCALENDAR