BEGIN:VCALENDAR
VERSION:2.0
PRODID:-//hacksw/handcal//NONSGML v1.0//EN
BEGIN:VEVENT
DTSTART:20250328T073000Z
DTEND:20250328T090000Z
LOCATION:
ORGANIZER;CN=Jacqueline Pasdeloup:MAILTO:jacqueline@asso-supelec.org
SUMMARY:Webinaire « Négocier son départ de son entreprise »
DESCRIPTION:\nWebinaire animé par Chantal Nordmann, d'Avenir Dirigeant, en duo avec Pierre Chicha, avocat à la Cour\nVous êtes en réflexion pour construire votre nouvelle étape de carrière ?\nVous négociez votre ...
URL:https://association.centralesupelec-alumni.com/fr/event/webinaire-negocier-son-depart-de-son-entreprise/2025/03/28/8720
BEGIN:VALARM
TRIGGER:-P0DT1H0M0S
ACTION:DISPLAY
END:VALARM
END:VEVENT
END:VCALENDAR