BEGIN:VCALENDAR
VERSION:2.0
PRODID:-//hacksw/handcal//NONSGML v1.0//EN
BEGIN:VEVENT
DTSTART:20250318T170000Z
DTEND:20250318T200000Z
LOCATION:ATICA \n8, Rue Frédéric Sauton \n75005 PARIS
ORGANIZER;CN=Irina Jaubert:MAILTO:irina.jaubert@mailo.com
SUMMARY:Afterwork du Groupe Economie Sociale et Solidaire
DESCRIPTION:Le Groupe Economie Sociale et Solidaire a le plaisir de vous convier à un \nafterwork le mardi 18 mars 2025 à partir de 18havec atelier participatif à 19hQue connaissez-vous de ce secteur de...
URL:https://association.centralesupelec-alumni.com/fr/event/afterwork-du-groupe-economie-sociale-et-solidaire/2025/03/18/8714
BEGIN:VALARM
TRIGGER:-P0DT1H0M0S
ACTION:DISPLAY
END:VALARM
END:VEVENT
END:VCALENDAR