BEGIN:VCALENDAR
VERSION:2.0
PRODID:-//hacksw/handcal//NONSGML v1.0//EN
BEGIN:VEVENT
DTSTART:20250123T083000Z
DTEND:20250123T153000Z
LOCATION:Bar du café « L’Escale »  \nPlace Charles de Gaulle  \n92420 VAUCRESSOON
ORGANIZER;CN=Jacqueline Pasdeloup - CSA Ile de France:MAILTO:jacqueline@asso-supelec.org
SUMMARY:Randonnée Vaucresson – Rueil Malmaison
DESCRIPTION:\nRendez-vous : \n9h30 au bar du café « L’Escale » devant la place de la gare de Vaucresson située sur ligne L du RER. \nAu départ de la Défense: ligne L   SEBU  départ  9h10  arrivée Vaucresson 9 h...
URL:https://association.centralesupelec-alumni.com/fr/group/csa-ile-de-france/587/calendar/randonnee-vaucresson-rueil-malmaison/2025/01/23/8712
BEGIN:VALARM
TRIGGER:-P0DT1H0M0S
ACTION:DISPLAY
END:VALARM
END:VEVENT
END:VCALENDAR