BEGIN:VCALENDAR
VERSION:2.0
PRODID:-//hacksw/handcal//NONSGML v1.0//EN
BEGIN:VEVENT
DTSTART:20250422T063000Z
DTEND:20250422T073000Z
LOCATION:
ORGANIZER;CN=Jacqueline Pasdeloup:MAILTO:jacqueline@asso-supelec.org
SUMMARY:Career sprint | Webinar 7 | La négociation de salaire
DESCRIPTION:\nPeut-on encore négocier son salaire ? Ne se met-on pas alors dans une situation délicate ?Bien sûr il faut négocier, ne serait-ce que pour démontrer votre motivation et votre crédibilité.\nCet...
URL:https://association.centralesupelec-alumni.com/fr/event/-career-sprint-webinar-7-la-negociation-de-salaire/2025/04/22/8710
BEGIN:VALARM
TRIGGER:-P0DT1H0M0S
ACTION:DISPLAY
END:VALARM
END:VEVENT
END:VCALENDAR