BEGIN:VCALENDAR
VERSION:2.0
PRODID:-//hacksw/handcal//NONSGML v1.0//EN
BEGIN:VEVENT
DTSTART:20250415T063000Z
DTEND:20250415T073000Z
LOCATION:
ORGANIZER;CN=Jacqueline Pasdeloup:MAILTO:jacqueline@asso-supelec.org
SUMMARY:Career sprint | Webinar 6 | L'entretien de recrutement
DESCRIPTION:\nQu’attend un recruteur lors d’un entretien ? Comment vous différencier de vos concurrents ? Autant de questions auxquelles il faut avoir répondu pour s’assurer d’être en pole position pour le poste ...
URL:https://association.centralesupelec-alumni.com/fr/event/career-sprint-webinar-6-l-entretien-de-recrutement/2025/04/15/8709
BEGIN:VALARM
TRIGGER:-P0DT1H0M0S
ACTION:DISPLAY
END:VALARM
END:VEVENT
END:VCALENDAR