BEGIN:VCALENDAR
VERSION:2.0
PRODID:-//hacksw/handcal//NONSGML v1.0//EN
BEGIN:VEVENT
DTSTART:20250408T063000Z
DTEND:20250408T073000Z
LOCATION:
ORGANIZER;CN=Jacqueline Pasdeloup:MAILTO:jacqueline@asso-supelec.org
SUMMARY:Career sprint | Webinar 5 | L'approche directe
DESCRIPTION:\nIl peut arriver que vous soyez informé d’une problématique en entreprise, à laquelle vous pourriez répondre avec succès, mais que vous ne connaissiez pas le décideur.\nComment réussir alors à...
URL:https://association.centralesupelec-alumni.com/fr/event/career-sprint-webinar-5-l-approche-directe/2025/04/08/8708
BEGIN:VALARM
TRIGGER:-P0DT1H0M0S
ACTION:DISPLAY
END:VALARM
END:VEVENT
END:VCALENDAR