BEGIN:VCALENDAR
VERSION:2.0
PRODID:-//hacksw/handcal//NONSGML v1.0//EN
BEGIN:VEVENT
DTSTART:20250325T073000Z
DTEND:20250325T083000Z
LOCATION:
ORGANIZER;CN=Jacqueline Pasdeloup:MAILTO:jacqueline@asso-supelec.org
SUMMARY:Career sprint | Webinar 3 | Le profil LinkedIn
DESCRIPTION:LinkedIn est un outil incontournable pour la visibilité digitale et la mise en relation. Et c’est bien parce qu’il est puissant que cet outil nécessite une utilisation professionnelle...
URL:https://association.centralesupelec-alumni.com/fr/event/career-sprint-webinar-3-le-profil-linkedin/2025/03/25/8706
BEGIN:VALARM
TRIGGER:-P0DT1H0M0S
ACTION:DISPLAY
END:VALARM
END:VEVENT
END:VCALENDAR