BEGIN:VCALENDAR
VERSION:2.0
PRODID:-//hacksw/handcal//NONSGML v1.0//EN
BEGIN:VEVENT
DTSTART:20250120T173000Z
DTEND:20250120T203000Z
LOCATION:Maison des CentraleSupelec \n8, Rue Jean Goujon \n75008 PARIS
ORGANIZER;CN=Jean-Christophe Strich - Repreneurs (CSA):MAILTO:jc.strich@free.fr
SUMMARY:[Afterwork] CentraleSupelec Repreneurs
DESCRIPTION:Chers camarades Repreneurs de CentraleSupelec,\npour entamer cette nouvelle année 2025, veuillez accepter nos meilleurs voeux pour vous et vos proches. Que cette année soit pour vous celle qui verra...
URL:https://association.centralesupelec-alumni.com/fr/group/repreneurs-csa/331/calendar/-afterwork-centralesupelec-repreneurs/2025/01/20/8702
BEGIN:VALARM
TRIGGER:-P0DT1H0M0S
ACTION:DISPLAY
END:VALARM
END:VEVENT
END:VCALENDAR