BEGIN:VCALENDAR
VERSION:2.0
PRODID:-//hacksw/handcal//NONSGML v1.0//EN
BEGIN:VEVENT
DTSTART:20250424T180000Z
DTEND:20250427T160000Z
LOCATION:Saint-Malo et les îles de la Manche \nPort des Bas Sablons \n35400 SAINT-MALO
ORGANIZER;CN=Claude Bailly - Voile Centralienne et Supélec:MAILTO:g.claude.bailly@gmail.com
SUMMARY:flottille de printemps
DESCRIPTION:Nous sommes trois camarades avec chacun notre voilier. Nous te réservons une place à bord pour une croisière amicale au départ de Saint-Malo. Les îles Chausey, des Ebihens ou Bréat sont nos objectifs ...
URL:https://association.centralesupelec-alumni.com/fr/group/voile-centralienne-et-supelec/345/calendar/flottille-de-printemps/2025/04/24/8698
BEGIN:VALARM
TRIGGER:-P0DT1H0M0S
ACTION:DISPLAY
END:VALARM
END:VEVENT
END:VCALENDAR