BEGIN:VCALENDAR
VERSION:2.0
PRODID:-//hacksw/handcal//NONSGML v1.0//EN
BEGIN:VEVENT
DTSTART:20250516T110000Z
DTEND:20250516T120000Z
LOCATION:
ORGANIZER;CN=Jacqueline Pasdeloup:MAILTO:jacqueline@asso-supelec.org
SUMMARY:Carrière - Webinaire " Pitch en 3 minutes : se présenter efficacement en entretien "
DESCRIPTION:\nEn collaboration avec EDHEC Career Centre for life Pitch 3 min : se présenter efficacement en entretien\nCet atelier est pour toi si tu souhaites :Faire la différence et convaincre en entretien...
URL:https://association.centralesupelec-alumni.com/fr/event/carriere-webinaire-pitch-en-3-minutes-se-presenter-efficacement-en-entretien/2025/05/16/8695
BEGIN:VALARM
TRIGGER:-P0DT1H0M0S
ACTION:DISPLAY
END:VALARM
END:VEVENT
END:VCALENDAR