BEGIN:VCALENDAR
VERSION:2.0
PRODID:-//hacksw/handcal//NONSGML v1.0//EN
BEGIN:VEVENT
DTSTART:20250124T120000Z
DTEND:20250124T130000Z
LOCATION:
ORGANIZER;CN=Jacqueline Pasdeloup:MAILTO:jacqueline@asso-supelec.org
SUMMARY:Carrière - Webinaire " Pitch en 3 minutes : se présenter efficacement en entretien "
DESCRIPTION:En collaboration avec EDHEC Alumni\nPitch 3 min : se présenter efficacement en entretien\nCette thématique sera abordée en 2 temps :- un prochain webinaire le 7 février à 13 h.\nCet atelier est pour...
URL:https://association.centralesupelec-alumni.com/fr/event/-carriere-webinaire-pitch-en-3-minutes-se-presenter-efficacement-en-entretien/2025/01/24/8685
BEGIN:VALARM
TRIGGER:-P0DT1H0M0S
ACTION:DISPLAY
END:VALARM
END:VEVENT
END:VCALENDAR