BEGIN:VCALENDAR
VERSION:2.0
PRODID:-//hacksw/handcal//NONSGML v1.0//EN
BEGIN:VEVENT
DTSTART:20250123T113000Z
DTEND:20250123T123000Z
LOCATION:
ORGANIZER;CN=Jacqueline Pasdeloup:MAILTO:jacqueline@asso-supelec.org
SUMMARY:Webinaire " Comment gérer son anxiété en situation de stress "
DESCRIPTION:\nWebinaire commun avec les autres associations du G16+ (Grandes Ecoles de rang 1) organisé par EDHEC Alumni\n " Comment gérer son anxiété en situation de stress "\nCe webinaire te permettra...
URL:https://association.centralesupelec-alumni.com/fr/event/webinaire-comment-gerer-son-anxiete-en-situation-de-stress/2025/01/23/8682
BEGIN:VALARM
TRIGGER:-P0DT1H0M0S
ACTION:DISPLAY
END:VALARM
END:VEVENT
END:VCALENDAR