BEGIN:VCALENDAR
VERSION:2.0
PRODID:-//hacksw/handcal//NONSGML v1.0//EN
BEGIN:VEVENT
DTSTART:20250116T111500Z
DTEND:20250116T130000Z
LOCATION:restaurant Le Club \n95, Avenue Roumanille \n06410 BIOT
ORGANIZER;CN=Olivier Caillau - Côte-d'Azur - Corse (CSA):MAILTO:olivier@caillau.net
SUMMARY:Déjeuner CSA au golf Le Provençal (Sophia-Antipolis, quartier St-Philippe)
DESCRIPTION:Le groupe départemental CentraleSupélec Alumni Côte-d'Azur t'invite à son déjeuner mensuel au restaurant LE CLUB du golf Le Provençal (quartier St-Philippe, Biot/Sophia-Antipolis). Il offre une...
URL:https://association.centralesupelec-alumni.com/fr/group/cote-d-azur-corse-csa/309/calendar/dejeuner-csa-au-golf-le-provencal-sophia-antipolis-quartier-st-philippe/2025/01/16/8670
BEGIN:VALARM
TRIGGER:-P0DT1H0M0S
ACTION:DISPLAY
END:VALARM
END:VEVENT
END:VCALENDAR