BEGIN:VCALENDAR
VERSION:2.0
PRODID:-//hacksw/handcal//NONSGML v1.0//EN
BEGIN:VEVENT
DTSTART:20250126T150000Z
DTEND:20250126T170000Z
LOCATION:Le Monte-Cristo \n11, Quai Chaussee des Moines \n44120 VERTOU
ORGANIZER;CN=Guillaume Landru - Ouest-Atlantique (CSA):MAILTO:guillaume.landru@gmail.com
SUMMARY:Vœux 2025 et galette
DESCRIPTION:Nous avons le plaisir de vous convier à notre Galette des Rois, un moment convivial à partager avec vos proches.Rendez-vous le dimanche 26 janvier à 16h au Monte-Cristo,  11 Quai Chaussée des Moines, ...
URL:https://association.centralesupelec-alumni.com/fr/group/ouest-atlantique-csa/297/calendar/voeux-2025-et-galette/2025/01/26/8667
BEGIN:VALARM
TRIGGER:-P0DT1H0M0S
ACTION:DISPLAY
END:VALARM
END:VEVENT
END:VCALENDAR