BEGIN:VCALENDAR
VERSION:2.0
PRODID:-//hacksw/handcal//NONSGML v1.0//EN
BEGIN:VEVENT
DTSTART:20250116T173000Z
DTEND:20250116T200000Z
LOCATION:KATIMAVIK \n4, Rue Mourguet \n69005 LYON
ORGANIZER;CN=Géraldine Dupasquier - Lyon (CSA):MAILTO:geraldine.dupasquier@centraliens.net
SUMMARY:Invitation à notre Afterwork spécial Galette
DESCRIPTION:Chère camarade, cher camarade,Pour bien débuter l'année 2025, nous avons le plaisir de t'inviter à un premier Afterwork, qui se tiendra le jeudi 16 janvier de 18h30 à 21h au Katimavik, situé au 4 rue ...
URL:https://association.centralesupelec-alumni.com/fr/group/lyon-csa/299/calendar/invitation-a-notre-afterwork-special-galette/2025/01/16/8658
BEGIN:VALARM
TRIGGER:-P0DT1H0M0S
ACTION:DISPLAY
END:VALARM
END:VEVENT
END:VCALENDAR