BEGIN:VCALENDAR
VERSION:2.0
PRODID:-//hacksw/handcal//NONSGML v1.0//EN
BEGIN:VEVENT
DTSTART:20250123T100000Z
DTEND:20250123T130000Z
LOCATION:Le comptoir \nUdagawa-cho 37-5, Shibuya
ORGANIZER;CN=Laurent Wolff - Japon (CSA):MAILTO:laurent.wolff@centraliens.net
SUMMARY:Shinnenkai
DESCRIPTION:Notre prochaine réunion aura lieu le jeudi 23 janvier à partir de 19h au restaurant Le comptoir  à Shibuya, avec vins et fromages en free flow, notamment. Une bonne occasion de consolider nos liens en...
URL:https://association.centralesupelec-alumni.com/fr/group/japon-csa/237/calendar/shinnenkai/2025/01/23/8650
BEGIN:VALARM
TRIGGER:-P0DT1H0M0S
ACTION:DISPLAY
END:VALARM
END:VEVENT
END:VCALENDAR