BEGIN:VCALENDAR
VERSION:2.0
PRODID:-//hacksw/handcal//NONSGML v1.0//EN
BEGIN:VEVENT
DTSTART:20250116T175000Z
DTEND:20250116T203000Z
LOCATION:Maison CentraleSupélec  \n8, Rue Jean Goujon \n75008 PARIS
ORGANIZER;CN=Francis Gillet D'Auriac - Énergie Durable (CSA):MAILTO:energie.conseil.plus@gmail.com
SUMMARY:Advanced Modular Reactor:  Electricité et chaleur décarbonnée haute température pour les Industries
DESCRIPTION:Le groupe énergie durable de CentraleSupélec, en association avec Evolen, Engie, l’ESTP, l’AIEN et l’AEE aura la joie d’accueillir, Jeudi 16 janvier de 19h à 21h30  Maison CentraleSupélec 8 rue Jean...
URL:https://association.centralesupelec-alumni.com/fr/group/energie-durable-csa/323/calendar/advanced-modular-reactor-electricite-et-chaleur-decarbonnee-haute-temperature-pour-les-industries/2025/01/16/8649
BEGIN:VALARM
TRIGGER:-P0DT1H0M0S
ACTION:DISPLAY
END:VALARM
END:VEVENT
END:VCALENDAR